BEGIN:VCALENDAR
VERSION:2.0
PRODID:-// - ECPv6.15.20//NONSGML v1.0//EN
CALSCALE:GREGORIAN
METHOD:PUBLISH
X-ORIGINAL-URL:https://northeastexplorerdirectory.com
X-WR-CALDESC:Events for 
REFRESH-INTERVAL;VALUE=DURATION:PT1H
X-Robots-Tag:noindex
X-PUBLISHED-TTL:PT1H
BEGIN:VTIMEZONE
TZID:America/New_York
BEGIN:DAYLIGHT
TZOFFSETFROM:-0500
TZOFFSETTO:-0400
TZNAME:EDT
DTSTART:20250309T070000
END:DAYLIGHT
BEGIN:STANDARD
TZOFFSETFROM:-0400
TZOFFSETTO:-0500
TZNAME:EST
DTSTART:20251102T060000
END:STANDARD
BEGIN:DAYLIGHT
TZOFFSETFROM:-0500
TZOFFSETTO:-0400
TZNAME:EDT
DTSTART:20260308T070000
END:DAYLIGHT
BEGIN:STANDARD
TZOFFSETFROM:-0400
TZOFFSETTO:-0500
TZNAME:EST
DTSTART:20261101T060000
END:STANDARD
BEGIN:DAYLIGHT
TZOFFSETFROM:-0500
TZOFFSETTO:-0400
TZNAME:EDT
DTSTART:20270314T070000
END:DAYLIGHT
BEGIN:STANDARD
TZOFFSETFROM:-0400
TZOFFSETTO:-0500
TZNAME:EST
DTSTART:20271107T060000
END:STANDARD
END:VTIMEZONE
BEGIN:VEVENT
DTSTART;TZID=America/New_York:20260530T000000
DTEND;TZID=America/New_York:20260530T235959
DTSTAMP:20260424T083802
CREATED:20260423T124234Z
LAST-MODIFIED:20260423T131730Z
UID:579-1780099200-1780185599@northeastexplorerdirectory.com
SUMMARY:Hike Tecumseh With Guineafowl Adventure Co.
DESCRIPTION:Come explore one of a handful of the “first 4\,000-footers” that most avid hikers speaking to peak bag all 48 embark upon! Mount Tecumseh is a challenging but rewarding out and-back hike that is predominantly below treeline and climbs consistently up several areas of stone steps and consistent dirt and stone trail! From the summit views of the Sandwich Mountain range are visible and the way back down is a breeze after making the climb up! A check-list NH hike for sure!
URL:https://northeastexplorerdirectory.com/event/hike-tecumseh-with-guineafowl-adventure-co/
CATEGORIES:Hiking & Camping
ATTACH;FMTTYPE=image/jpeg:https://northeastexplorerdirectory.com/wp-content/uploads/2026/04/tecumseh-guineafowl.jpg
END:VEVENT
END:VCALENDAR