BEGIN:VCALENDAR
VERSION:2.0
PRODID:-// - ECPv6.15.20//NONSGML v1.0//EN
CALSCALE:GREGORIAN
METHOD:PUBLISH
X-ORIGINAL-URL:https://northeastexplorerdirectory.com
X-WR-CALDESC:Events for 
REFRESH-INTERVAL;VALUE=DURATION:PT1H
X-Robots-Tag:noindex
X-PUBLISHED-TTL:PT1H
BEGIN:VTIMEZONE
TZID:America/New_York
BEGIN:DAYLIGHT
TZOFFSETFROM:-0500
TZOFFSETTO:-0400
TZNAME:EDT
DTSTART:20250309T070000
END:DAYLIGHT
BEGIN:STANDARD
TZOFFSETFROM:-0400
TZOFFSETTO:-0500
TZNAME:EST
DTSTART:20251102T060000
END:STANDARD
BEGIN:DAYLIGHT
TZOFFSETFROM:-0500
TZOFFSETTO:-0400
TZNAME:EDT
DTSTART:20260308T070000
END:DAYLIGHT
BEGIN:STANDARD
TZOFFSETFROM:-0400
TZOFFSETTO:-0500
TZNAME:EST
DTSTART:20261101T060000
END:STANDARD
BEGIN:DAYLIGHT
TZOFFSETFROM:-0500
TZOFFSETTO:-0400
TZNAME:EDT
DTSTART:20270314T070000
END:DAYLIGHT
BEGIN:STANDARD
TZOFFSETFROM:-0400
TZOFFSETTO:-0500
TZNAME:EST
DTSTART:20271107T060000
END:STANDARD
BEGIN:DAYLIGHT
TZOFFSETFROM:-0500
TZOFFSETTO:-0400
TZNAME:EDT
DTSTART:20280312T070000
END:DAYLIGHT
BEGIN:STANDARD
TZOFFSETFROM:-0400
TZOFFSETTO:-0500
TZNAME:EST
DTSTART:20281105T060000
END:STANDARD
END:VTIMEZONE
BEGIN:VEVENT
DTSTART;TZID=America/New_York:20261031T000000
DTEND;TZID=America/New_York:20261031T235959
DTSTAMP:20260424T235927
CREATED:20260424T204220Z
LAST-MODIFIED:20260424T204223Z
UID:642-1793404800-1793491199@northeastexplorerdirectory.com
SUMMARY:Trick Or Creek Jump Jam - MTB
DESCRIPTION:Save the date for our Annual Trick or Creek Jump Jam on October 31st. More details coming soon.
URL:https://northeastexplorerdirectory.com/event/trick-or-creek-jump-jam-mtb/
LOCATION:Mountain Creek\, 200 Route 94\, Vernon\, New Jersey\, United States
CATEGORIES:Biking,New Jersey
ATTACH;FMTTYPE=image/jpeg:https://northeastexplorerdirectory.com/wp-content/uploads/2026/04/mountain-creek-jump-jam-1.jpg
END:VEVENT
BEGIN:VEVENT
DTSTART;TZID=America/New_York:20261101T000000
DTEND;TZID=America/New_York:20261101T235959
DTSTAMP:20260424T235927
CREATED:20260424T204659Z
LAST-MODIFIED:20260424T204703Z
UID:648-1793491200-1793577599@northeastexplorerdirectory.com
SUMMARY:Mountain Creek MTB - Last Run Down
DESCRIPTION:Save the date for our Last Run Down on November 1st. More details coming soon.
URL:https://northeastexplorerdirectory.com/event/mountain-creek-mtb-last-run-down/
LOCATION:Mountain Creek\, 200 Route 94\, Vernon\, New Jersey\, United States
CATEGORIES:Biking,New Jersey
ATTACH;FMTTYPE=image/jpeg:https://northeastexplorerdirectory.com/wp-content/uploads/2026/04/mountain-creek-last-run-down.jpeg
END:VEVENT
BEGIN:VEVENT
DTSTART;TZID=America/New_York:20261114T000000
DTEND;TZID=America/New_York:20261115T235959
DTSTAMP:20260424T235927
CREATED:20260424T171547Z
LAST-MODIFIED:20260424T171856Z
UID:611-1794614400-1794787199@northeastexplorerdirectory.com
SUMMARY:Snowbound Expo
DESCRIPTION:Snowbound Expo is the relaunch of the well known ‘Boston Ski & Snowboard Expo’ bringing together the ski & snowboard community to meet up & plan for their next adventure in the mountains. The show will bring together brands showcasing the latest gear\, equipment\, apparel\, technology and is the place to pick up ski passes for the next season. Snowbound Expo hosts an amazing line up of inspirational speakers who will share their skills and experiences to get visitors stoked for the next season! Snowbound Expo is accessible to all – no matter your age\, sexual orientation\, race\, ability – if you want to try out snowsports or improve your techniques\, Snowbound Expo is the place for you!
URL:https://northeastexplorerdirectory.com/event/snowbound-expo/
LOCATION:Mohegan Sun\, Uncasville\, Connecticut
CATEGORIES:Connecticut,Ski & Snowboard
ATTACH;FMTTYPE=image/jpeg:https://northeastexplorerdirectory.com/wp-content/uploads/2026/04/qtq80-g8Da9p.jpeg
END:VEVENT
BEGIN:VEVENT
DTSTART;TZID=America/New_York:20270219T000000
DTEND;TZID=America/New_York:20270219T235959
DTSTAMP:20260424T235927
CREATED:20260425T014401Z
LAST-MODIFIED:20260425T014407Z
UID:666-1802995200-1803081599@northeastexplorerdirectory.com
SUMMARY:Snow Devil Snowshoe And Winter Ultra
DESCRIPTION:Welcome to the Snowdevil Ultra\, the original Spartan Founders event and the oldest Spartan challenge since 2003. Held at the iconic Riverside Farm in Pittsfield\, VT\, this venue is the heart and soul of Spartan history. Nestled in the picturesque Green Mountains\, Riverside Farm offers a rugged\, no-frills environment that embodies the true Spartan spirit. \n\n\n\nThe Snowdevil Ultra isn’t just a race; it’s a return to the roots of Spartan endurance. Expect demanding trails\, relentless climbs\, and breathtaking views. From the thousand-foot\, three-mile climb to the dense spruce forest aptly named the Labyrinth\, every step of this course will test your grit and determination. \n\n\n\nJoin us at Snowdevil for a pure\, unadulterated challenge. Strip away the luxuries and face the raw\, demanding conditions that have defined Spartan races for over two decades.
URL:https://northeastexplorerdirectory.com/event/snow-devil-snowshoe-and-winter-ultra/
LOCATION:Pittsfield\, Vermont\, 105 Tweed River Drive\, Pittsfield\, Vermont\, United States
CATEGORIES:Snowshoeing & XC Skiing,Vermont
ATTACH;FMTTYPE=image/jpeg:https://northeastexplorerdirectory.com/wp-content/uploads/2026/04/snow-devil-1.jpg
END:VEVENT
BEGIN:VEVENT
DTSTART;TZID=America/New_York:20270410T080000
DTEND;TZID=America/New_York:20270410T160000
DTSTAMP:20260424T235927
CREATED:20260413T182012Z
LAST-MODIFIED:20260424T161459Z
UID:462-1807344000-1807372800@northeastexplorerdirectory.com
SUMMARY:Spring Fever 8-Hour | 5-Miler | 5K
DESCRIPTION:Join us for one of the best times of the year in New England; Spring!  Right as the snow is melting\, the flowers are blooming and you are ready to shake off your winter running gear and earn some swag at a local race. The race route takes you through beautiful Wompatuck State Park in Hingham\, MA.
URL:https://northeastexplorerdirectory.com/event/spring-fever-8-hour-5-miler-5k/
LOCATION:Wompatuck State Park\, Hingham\, MA
CATEGORIES:Massachusetts,Trail Races
ATTACH;FMTTYPE=image/jpeg:https://northeastexplorerdirectory.com/wp-content/uploads/2026/04/spring-fever-11.jpg
END:VEVENT
BEGIN:VEVENT
DTSTART;VALUE=DATE:20270417
DTEND;VALUE=DATE:20270418
DTSTAMP:20260424T235927
CREATED:20260417T134656Z
LAST-MODIFIED:20260424T161541Z
UID:490-1807920000-1808006399@northeastexplorerdirectory.com
SUMMARY:Smalls To The Wall
DESCRIPTION:(OFFICIAL 2027 DATE TBD) The popular Smalls to the Wall whitewater kayak race takes place at Smalls Falls near Rangeley\, Maine each spring. \nThe falls are located in a scenic steep\, narrow gorge that features rock slides and waterfalls. It is a popular spot for whitewater kayakers looking for an action-packed day of “park-n-huck” style paddling.
URL:https://northeastexplorerdirectory.com/event/smalls-to-the-wall/
LOCATION:Rangeley\, Maine\, Smalls Falls (Rangeley)\, Maine
CATEGORIES:Maine,Paddling - Whitewater/Kayak/Canoe
ATTACH;FMTTYPE=image/jpeg:https://northeastexplorerdirectory.com/wp-content/uploads/2026/04/smalls-to-the-wall-2.jpg
END:VEVENT
END:VCALENDAR