BEGIN:VCALENDAR
VERSION:2.0
PRODID:-// - ECPv6.15.20//NONSGML v1.0//EN
CALSCALE:GREGORIAN
METHOD:PUBLISH
X-ORIGINAL-URL:https://northeastexplorerdirectory.com
X-WR-CALDESC:Events for 
REFRESH-INTERVAL;VALUE=DURATION:PT1H
X-Robots-Tag:noindex
X-PUBLISHED-TTL:PT1H
BEGIN:VTIMEZONE
TZID:America/New_York
BEGIN:DAYLIGHT
TZOFFSETFROM:-0500
TZOFFSETTO:-0400
TZNAME:EDT
DTSTART:20250309T070000
END:DAYLIGHT
BEGIN:STANDARD
TZOFFSETFROM:-0400
TZOFFSETTO:-0500
TZNAME:EST
DTSTART:20251102T060000
END:STANDARD
BEGIN:DAYLIGHT
TZOFFSETFROM:-0500
TZOFFSETTO:-0400
TZNAME:EDT
DTSTART:20260308T070000
END:DAYLIGHT
BEGIN:STANDARD
TZOFFSETFROM:-0400
TZOFFSETTO:-0500
TZNAME:EST
DTSTART:20261101T060000
END:STANDARD
BEGIN:DAYLIGHT
TZOFFSETFROM:-0500
TZOFFSETTO:-0400
TZNAME:EDT
DTSTART:20270314T070000
END:DAYLIGHT
BEGIN:STANDARD
TZOFFSETFROM:-0400
TZOFFSETTO:-0500
TZNAME:EST
DTSTART:20271107T060000
END:STANDARD
BEGIN:DAYLIGHT
TZOFFSETFROM:-0500
TZOFFSETTO:-0400
TZNAME:EDT
DTSTART:20280312T070000
END:DAYLIGHT
BEGIN:STANDARD
TZOFFSETFROM:-0400
TZOFFSETTO:-0500
TZNAME:EST
DTSTART:20281105T060000
END:STANDARD
END:VTIMEZONE
BEGIN:VEVENT
DTSTART;TZID=America/New_York:20260502T150000
DTEND;TZID=America/New_York:20260502T170000
DTSTAMP:20260424T094824
CREATED:20260423T125129Z
LAST-MODIFIED:20260423T125135Z
UID:583-1777734000-1777741200@northeastexplorerdirectory.com
SUMMARY:Decked Out Days - Island Time Edition at Killington
DESCRIPTION:Join Killington at the Superstar Umbrella Bar on Saturday\, May 2nd from 3:00 p.m. – 5:00 p.m. as we get Decked Out with the help from our friends at NÜTRL. \n\n\n\nReturning back to the new & improved Superstar Umbrella Bar at the base of the new Superstar Six\, NÜTRL is here to level up your spring après experience. If you need a refresh after some bumped up laps on Superstar\, come grab a seat on the patio to unwind & enjoy the spring vibes. \n\n\n\nDecked Out Days will feature live music on the deck\, games and tons of NÜTRL swag giveaways. Stay tuned for more info on our weekly prizes! \n\n\n\n\n\n\n\nEntertainment\n\n\n\nBenny Shreds is a DJ and Bass Music Producer from Vermont. His sets feature EDM hits and fresh remixes of trending songs and throwbacks. DJ Benny plays his original remixes and mashups to give listeners an exclusive set\, blending your favorite hits with EDM & bass music sure to get the dance floor packed! \n\n\n\n\n\n\n\nTheme: Island Time\n\n\n\nEmbrace an island-inspired look and lean into the feeling of island time on the mountain. From tropical prints and bright colors to leis and laid-back styles\, this theme is all about bringing a relaxed\, warm-weather vibe to the slopes. Whether it is a full beach outfit or just a touch of tropical flair\, the focus is on fun\, color\, and not taking things too seriously. The person with the best island outfit will walk away with a prize! \n\n\n\nEmbrace full island energy with a classic limbo showdown – on snow. At 4:00 p.m.\, be ready to bend low and stay smooth as the pole drops. The last person standing will take home a pair of limited-edition of Superstar Skis. \n\n\n\n*Must be 21+ to compete
URL:https://northeastexplorerdirectory.com/event/decked-out-days-island-time-edition-at-killington/
CATEGORIES:Ski & Snowboard
ATTACH;FMTTYPE=image/jpeg:https://northeastexplorerdirectory.com/wp-content/uploads/2026/04/killington-decked-out.jpg
END:VEVENT
BEGIN:VEVENT
DTSTART;TZID=America/New_York:20260530T000000
DTEND;TZID=America/New_York:20260530T235959
DTSTAMP:20260424T094824
CREATED:20260423T124234Z
LAST-MODIFIED:20260423T131730Z
UID:579-1780099200-1780185599@northeastexplorerdirectory.com
SUMMARY:Hike Tecumseh With Guineafowl Adventure Co.
DESCRIPTION:Come explore one of a handful of the “first 4\,000-footers” that most avid hikers speaking to peak bag all 48 embark upon! Mount Tecumseh is a challenging but rewarding out and-back hike that is predominantly below treeline and climbs consistently up several areas of stone steps and consistent dirt and stone trail! From the summit views of the Sandwich Mountain range are visible and the way back down is a breeze after making the climb up! A check-list NH hike for sure!
URL:https://northeastexplorerdirectory.com/event/hike-tecumseh-with-guineafowl-adventure-co/
CATEGORIES:Hiking & Camping
ATTACH;FMTTYPE=image/jpeg:https://northeastexplorerdirectory.com/wp-content/uploads/2026/04/tecumseh-guineafowl.jpg
END:VEVENT
BEGIN:VEVENT
DTSTART;TZID=America/New_York:20260619T150000
DTEND;TZID=America/New_York:20260621T150000
DTSTAMP:20260424T094824
CREATED:20260420T175715Z
LAST-MODIFIED:20260420T195558Z
UID:540-1781881200-1782054000@northeastexplorerdirectory.com
SUMMARY:Rangeley Rendezvous
DESCRIPTION:The Rangeley Rendezvous will offer trips\, clinics\, a race\, and social activities for paddling enthusiasts during the weekend of June 19-21. The event will be based in the town of Rangeley\, but spread out to the many nearby scenic waterways. Participants are welcome to join for individual activities or the entire weekend.
URL:https://northeastexplorerdirectory.com/event/rangeley-rendezvous/
LOCATION:Rangeley\, Maine\, Rangeley\, Maine
CATEGORIES:Paddling - Whitewater/Kayak/Canoe
ATTACH;FMTTYPE=image/jpeg:https://northeastexplorerdirectory.com/wp-content/uploads/2026/04/rangeley-rendezvous-1.jpg
END:VEVENT
BEGIN:VEVENT
DTSTART;TZID=America/New_York:20260801T000000
DTEND;TZID=America/New_York:20260802T235959
DTSTAMP:20260424T094824
CREATED:20260418T153559Z
LAST-MODIFIED:20260423T122309Z
UID:511-1785542400-1785715199@northeastexplorerdirectory.com
SUMMARY:24 Hours Of Great Glen
DESCRIPTION:Mountain bikers will get to test their endurance in a grueling 24-hour mountain bike race set amid the scenery of New Hampshire’s White Mountains in August. \n\n\n\nThe Big Day Brewing 24 Hours of Great Glen event will take place August 1 and 2 at Great Glen Trails Outdoor Center in Gorham\, New Hampshire.
URL:https://northeastexplorerdirectory.com/event/24-hours-of-great-glen/
LOCATION:Great Glen Trails Outdoor Center\, New Hampshire
CATEGORIES:Biking
ATTACH;FMTTYPE=image/jpeg:https://northeastexplorerdirectory.com/wp-content/uploads/2026/04/24-hours-great-glen-4.jpg
END:VEVENT
BEGIN:VEVENT
DTSTART;TZID=America/New_York:20260925T080000
DTEND;TZID=America/New_York:20260927T170000
DTSTAMP:20260424T094824
CREATED:20260420T181702Z
LAST-MODIFIED:20260420T192949Z
UID:550-1790323200-1790528400@northeastexplorerdirectory.com
SUMMARY:Vermont Climbing Festival
DESCRIPTION:The weekend will include camping\, climbing\, workshops\, clinics\, competitions\, speakers\, music\, and more. All proceeds from the event go toward CRAG Vermont and the organization’s work to protect and preserve climbing in the state.
URL:https://northeastexplorerdirectory.com/event/vermont-climbing-festival/
LOCATION:Vermont\, Vermont
CATEGORIES:Climbing
ATTACH;FMTTYPE=image/jpeg:https://northeastexplorerdirectory.com/wp-content/uploads/2026/04/qtq80-hz1xv0.jpeg
END:VEVENT
BEGIN:VEVENT
DTSTART;TZID=America/New_York:20270410T080000
DTEND;TZID=America/New_York:20270410T160000
DTSTAMP:20260424T094824
CREATED:20260413T182012Z
LAST-MODIFIED:20260418T153636Z
UID:462-1807344000-1807372800@northeastexplorerdirectory.com
SUMMARY:Spring Fever 8-Hour | 5-Miler | 5K
DESCRIPTION:Join us for one of the best times of the year in New England; Spring!  Right as the snow is melting\, the flowers are blooming and you are ready to shake off your winter running gear and earn some swag at a local race. The race route takes you through beautiful Wompatuck State Park in Hingham\, MA.
URL:https://northeastexplorerdirectory.com/event/spring-fever-8-hour-5-miler-5k/
LOCATION:Wompatuck State Park\, Hingham\, MA
CATEGORIES:Trail Races
ATTACH;FMTTYPE=image/jpeg:https://northeastexplorerdirectory.com/wp-content/uploads/2026/04/spring-fever-11.jpg
END:VEVENT
BEGIN:VEVENT
DTSTART;VALUE=DATE:20270417
DTEND;VALUE=DATE:20270418
DTSTAMP:20260424T094824
CREATED:20260417T134656Z
LAST-MODIFIED:20260420T195725Z
UID:490-1807920000-1808006399@northeastexplorerdirectory.com
SUMMARY:Smalls To The Wall
DESCRIPTION:(OFFICIAL 2027 DATE TBD) The popular Smalls to the Wall whitewater kayak race takes place at Smalls Falls near Rangeley\, Maine each spring. \nThe falls are located in a scenic steep\, narrow gorge that features rock slides and waterfalls. It is a popular spot for whitewater kayakers looking for an action-packed day of “park-n-huck” style paddling.
URL:https://northeastexplorerdirectory.com/event/smalls-to-the-wall/
LOCATION:Rangeley\, Maine\, Smalls Falls (Rangeley)\, Maine
CATEGORIES:Paddling - Whitewater/Kayak/Canoe
ATTACH;FMTTYPE=image/jpeg:https://northeastexplorerdirectory.com/wp-content/uploads/2026/04/smalls-to-the-wall-2.jpg
END:VEVENT
END:VCALENDAR