BEGIN:VCALENDAR
VERSION:2.0
PRODID:-// - ECPv6.15.20//NONSGML v1.0//EN
CALSCALE:GREGORIAN
METHOD:PUBLISH
X-ORIGINAL-URL:https://northeastexplorerdirectory.com
X-WR-CALDESC:Events for 
REFRESH-INTERVAL;VALUE=DURATION:PT1H
X-Robots-Tag:noindex
X-PUBLISHED-TTL:PT1H
BEGIN:VTIMEZONE
TZID:America/New_York
BEGIN:DAYLIGHT
TZOFFSETFROM:-0500
TZOFFSETTO:-0400
TZNAME:EDT
DTSTART:20250309T070000
END:DAYLIGHT
BEGIN:STANDARD
TZOFFSETFROM:-0400
TZOFFSETTO:-0500
TZNAME:EST
DTSTART:20251102T060000
END:STANDARD
BEGIN:DAYLIGHT
TZOFFSETFROM:-0500
TZOFFSETTO:-0400
TZNAME:EDT
DTSTART:20260308T070000
END:DAYLIGHT
BEGIN:STANDARD
TZOFFSETFROM:-0400
TZOFFSETTO:-0500
TZNAME:EST
DTSTART:20261101T060000
END:STANDARD
BEGIN:DAYLIGHT
TZOFFSETFROM:-0500
TZOFFSETTO:-0400
TZNAME:EDT
DTSTART:20270314T070000
END:DAYLIGHT
BEGIN:STANDARD
TZOFFSETFROM:-0400
TZOFFSETTO:-0500
TZNAME:EST
DTSTART:20271107T060000
END:STANDARD
END:VTIMEZONE
BEGIN:VEVENT
DTSTART;TZID=America/New_York:20260520T090000
DTEND;TZID=America/New_York:20260520T110000
DTSTAMP:20260425T000208
CREATED:20260425T020057Z
LAST-MODIFIED:20260425T020100Z
UID:672-1779267600-1779274800@northeastexplorerdirectory.com
SUMMARY:RI Surfrider Roadside Stream Cleanup
DESCRIPTION:Join RI Surfrider and Norman Bird Sanctuary for a community roadside stream clean-up and help make a positive impact on our local environment! \n\n\n\nEligibility – Ages: 18+ \n\n\n\nPurposeOur local beaches (and streams!) are stewarded by volunteers just like you! We welcome you to an engaging day of toes in the sand (or mud!) with family\, friends and new acquaintances\, raising awareness about litter and plastic pollution. \n\n\n\nRoleBy taking practical action to protect the environment\, your collection efforts allow Surfrider to use data to influence laws and reduce waste at the source!
URL:https://northeastexplorerdirectory.com/event/ri-surfrider-roadside-stream-cleanup/
LOCATION:Middletown\, Rhode Island\, Middletown\, Rhode Island\, United States
CATEGORIES:Environment & Conservation,Rhode Island
ATTACH;FMTTYPE=image/jpeg:https://northeastexplorerdirectory.com/wp-content/uploads/2026/04/surfrider-stream-cleanup-1.jpg
END:VEVENT
BEGIN:VEVENT
DTSTART;TZID=America/New_York:20260519T000000
DTEND;TZID=America/New_York:20260523T235959
DTSTAMP:20260425T000208
CREATED:20260424T202618Z
LAST-MODIFIED:20260424T202623Z
UID:628-1779148800-1779580799@northeastexplorerdirectory.com
SUMMARY:Trans-Sylvania Mountain Bike Epic
DESCRIPTION:​The Trans-Sylvania MTB Epic (TSE) is a multi-stage cross-country mountain bike race (with 3- and 5-day options) in which competitors are expected to be physically and mechanically self-sufficient during each stage. Participants in TSE undertake this challenge with the expectation that they understand and accept this principle. Racers must be in good health and well trained. TSE does not screen participants. It is the racer’s responsibility to determine if they are fit enough to safely participate.
URL:https://northeastexplorerdirectory.com/event/trans-sylvania-mountain-bike-epic/
LOCATION:Spring Mills\, PA\, Spring Mills\, Pennsylvania
CATEGORIES:Biking,Pennsylvania
ATTACH;FMTTYPE=image/jpeg:https://northeastexplorerdirectory.com/wp-content/uploads/2026/04/trans-sylvania-mtb-epic-2.jpg
END:VEVENT
BEGIN:VEVENT
DTSTART;TZID=America/New_York:20260516T083000
DTEND;TZID=America/New_York:20260516T173000
DTSTAMP:20260425T000208
CREATED:20260424T200426Z
LAST-MODIFIED:20260424T200431Z
UID:618-1778920200-1778952600@northeastexplorerdirectory.com
SUMMARY:Forgotten Forest Ultra Run
DESCRIPTION:Deep in the heart of Roosevelt Forest\, where the trails whisper secrets and the trees stand as silent sentinels\, an endurance challenge like no other awaits. Some say the forest was forgotten—but for those who run here\, it’s anything but. The Forgotten Forest 9-Hour Ultra isn’t just about logging miles—it’s about testing your limits\, supporting your fellow runners\, and soaking in the beauty of the trails. The event runs from 8:30 AM to 5:30 PM on a well-marked single and double-track loop with approximately 131 feet of elevation gain per lap.
URL:https://northeastexplorerdirectory.com/event/forgotten-forest-ultra-run/
LOCATION:Stratford\, Connecticut\, Stratford\, Connecticut
CATEGORIES:Connecticut,Trail Races
ATTACH;FMTTYPE=image/jpeg:https://northeastexplorerdirectory.com/wp-content/uploads/2026/04/forgotten-forest-photo.jpg
END:VEVENT
BEGIN:VEVENT
DTSTART;TZID=America/New_York:20260502T150000
DTEND;TZID=America/New_York:20260502T170000
DTSTAMP:20260425T000208
CREATED:20260423T125129Z
LAST-MODIFIED:20260424T161121Z
UID:583-1777734000-1777741200@northeastexplorerdirectory.com
SUMMARY:Decked Out Days - Island Time Edition at Killington
DESCRIPTION:Join Killington at the Superstar Umbrella Bar on Saturday\, May 2nd from 3:00 p.m. – 5:00 p.m. as we get Decked Out with the help from our friends at NÜTRL. \n\n\n\nReturning back to the new & improved Superstar Umbrella Bar at the base of the new Superstar Six\, NÜTRL is here to level up your spring après experience. If you need a refresh after some bumped up laps on Superstar\, come grab a seat on the patio to unwind & enjoy the spring vibes. \n\n\n\nDecked Out Days will feature live music on the deck\, games and tons of NÜTRL swag giveaways. Stay tuned for more info on our weekly prizes! \n\n\n\n\n\n\n\nEntertainment\n\n\n\nBenny Shreds is a DJ and Bass Music Producer from Vermont. His sets feature EDM hits and fresh remixes of trending songs and throwbacks. DJ Benny plays his original remixes and mashups to give listeners an exclusive set\, blending your favorite hits with EDM & bass music sure to get the dance floor packed! \n\n\n\n\n\n\n\nTheme: Island Time\n\n\n\nEmbrace an island-inspired look and lean into the feeling of island time on the mountain. From tropical prints and bright colors to leis and laid-back styles\, this theme is all about bringing a relaxed\, warm-weather vibe to the slopes. Whether it is a full beach outfit or just a touch of tropical flair\, the focus is on fun\, color\, and not taking things too seriously. The person with the best island outfit will walk away with a prize! \n\n\n\nEmbrace full island energy with a classic limbo showdown – on snow. At 4:00 p.m.\, be ready to bend low and stay smooth as the pole drops. The last person standing will take home a pair of limited-edition of Superstar Skis. \n\n\n\n*Must be 21+ to compete
URL:https://northeastexplorerdirectory.com/event/decked-out-days-island-time-edition-at-killington/
LOCATION:Rhode Island
CATEGORIES:Ski & Snowboard,Vermont
ATTACH;FMTTYPE=image/jpeg:https://northeastexplorerdirectory.com/wp-content/uploads/2026/04/killington-decked-out.jpg
END:VEVENT
END:VCALENDAR