BEGIN:VCALENDAR
VERSION:2.0
PRODID:-// - ECPv6.15.20//NONSGML v1.0//EN
CALSCALE:GREGORIAN
METHOD:PUBLISH
X-ORIGINAL-URL:https://northeastexplorerdirectory.com
X-WR-CALDESC:Events for 
REFRESH-INTERVAL;VALUE=DURATION:PT1H
X-Robots-Tag:noindex
X-PUBLISHED-TTL:PT1H
BEGIN:VTIMEZONE
TZID:America/New_York
BEGIN:DAYLIGHT
TZOFFSETFROM:-0500
TZOFFSETTO:-0400
TZNAME:EDT
DTSTART:20250309T070000
END:DAYLIGHT
BEGIN:STANDARD
TZOFFSETFROM:-0400
TZOFFSETTO:-0500
TZNAME:EST
DTSTART:20251102T060000
END:STANDARD
BEGIN:DAYLIGHT
TZOFFSETFROM:-0500
TZOFFSETTO:-0400
TZNAME:EDT
DTSTART:20260308T070000
END:DAYLIGHT
BEGIN:STANDARD
TZOFFSETFROM:-0400
TZOFFSETTO:-0500
TZNAME:EST
DTSTART:20261101T060000
END:STANDARD
BEGIN:DAYLIGHT
TZOFFSETFROM:-0500
TZOFFSETTO:-0400
TZNAME:EDT
DTSTART:20270314T070000
END:DAYLIGHT
BEGIN:STANDARD
TZOFFSETFROM:-0400
TZOFFSETTO:-0500
TZNAME:EST
DTSTART:20271107T060000
END:STANDARD
END:VTIMEZONE
BEGIN:VEVENT
DTSTART;TZID=America/New_York:20260925T080000
DTEND;TZID=America/New_York:20260927T170000
DTSTAMP:20260424T050835
CREATED:20260420T181702Z
LAST-MODIFIED:20260420T192949Z
UID:550-1790323200-1790528400@northeastexplorerdirectory.com
SUMMARY:Vermont Climbing Festival
DESCRIPTION:The weekend will include camping\, climbing\, workshops\, clinics\, competitions\, speakers\, music\, and more. All proceeds from the event go toward CRAG Vermont and the organization’s work to protect and preserve climbing in the state.
URL:https://northeastexplorerdirectory.com/event/vermont-climbing-festival/
LOCATION:Vermont\, Vermont
CATEGORIES:Climbing
ATTACH;FMTTYPE=image/jpeg:https://northeastexplorerdirectory.com/wp-content/uploads/2026/04/qtq80-hz1xv0.jpeg
END:VEVENT
END:VCALENDAR